BEGIN:VCALENDAR
VERSION:2.0
PRODID:-//Friends of Marsden Library - ECPv6.15.11//NONSGML v1.0//EN
CALSCALE:GREGORIAN
METHOD:PUBLISH
X-WR-CALNAME:Friends of Marsden Library
X-ORIGINAL-URL:https://friendsofmarsdenlibrary.org.uk
X-WR-CALDESC:Events for Friends of Marsden Library
REFRESH-INTERVAL;VALUE=DURATION:PT1H
X-Robots-Tag:noindex
X-PUBLISHED-TTL:PT1H
BEGIN:VTIMEZONE
TZID:Europe/London
BEGIN:DAYLIGHT
TZOFFSETFROM:+0000
TZOFFSETTO:+0100
TZNAME:BST
DTSTART:20240331T010000
END:DAYLIGHT
BEGIN:STANDARD
TZOFFSETFROM:+0100
TZOFFSETTO:+0000
TZNAME:GMT
DTSTART:20241027T010000
END:STANDARD
BEGIN:DAYLIGHT
TZOFFSETFROM:+0000
TZOFFSETTO:+0100
TZNAME:BST
DTSTART:20250330T010000
END:DAYLIGHT
BEGIN:STANDARD
TZOFFSETFROM:+0100
TZOFFSETTO:+0000
TZNAME:GMT
DTSTART:20251026T010000
END:STANDARD
BEGIN:DAYLIGHT
TZOFFSETFROM:+0000
TZOFFSETTO:+0100
TZNAME:BST
DTSTART:20260329T010000
END:DAYLIGHT
BEGIN:STANDARD
TZOFFSETFROM:+0100
TZOFFSETTO:+0000
TZNAME:GMT
DTSTART:20261025T010000
END:STANDARD
END:VTIMEZONE
BEGIN:VEVENT
DTSTART;TZID=Europe/London:20250515T190000
DTEND;TZID=Europe/London:20250515T200000
DTSTAMP:20260421T115314
CREATED:20250214T190211Z
LAST-MODIFIED:20250314T183101Z
UID:4288-1747335600-1747339200@friendsofmarsdenlibrary.org.uk
SUMMARY:A Wilding Year\, Hannah Dale - with Huddersfield Literature Festival
DESCRIPTION:Enjoy an illustrated talk from Hannah Dale\, the artist behind successful stationery and gift design company Wrendale Designs\, about the ambitious rewilding project that she and her husband have undertaken on their 300-acre farm.  \nWhen Hannah and Jack inherited his father’s farm in North Lincolnshire\, they soon realised that the poor soil made it challenging for food production and the perfect candidate for rewilding.  \nIn her new book\, A Wilding Year\, she recounts the remarkable process of restoring the farm’s ecosystems\, creating a mosaic of opportunities for wildlife at a time when the natural world is in great need of protection.  \nHannah will give a talk about the rewilding process and show some of her stunning sketches and illustrations that capture the beauty and power of nature across the seasons.  \nHannah Dale runs Wrendale Designs\, a stationery and gift design company that specialises in endearing illustrations depicting British wildlife\, which she founded in 2012. Hannah grew up in rural Lincolnshire which has always inspired her watercolour illustrations. Studying art at school before reading zoology at Cambridge\, she went on to work as a stockbroker in London before returning to Lincolnshire to find an outlet for her artistic roots and passion for ecology and conservation. Hannah’s previous books include: A Dog’s Life\, The Farmyard Set\, Born to be Wild\, The Young Ones and Flying the Nest.  \n\n15th May\nDoors: 6.30pm\nEvent: 7pm – 8pm\nBar\, Refreshments\, Signing\n\nTickets from Huddersfield Literature Festival
URL:https://friendsofmarsdenlibrary.org.uk/event/a-wilding-year-hannah-dale-with-huddersfield-literature-festival/
LOCATION:West Yorkshire
ATTACH;FMTTYPE=image/jpeg:https://friendsofmarsdenlibrary.org.uk/wp-content/uploads/2025/02/https___hannah-dale-banner.jpeg
END:VEVENT
END:VCALENDAR