BEGIN:VCALENDAR
VERSION:2.0
PRODID:-//Friends of Marsden Library - ECPv6.15.11//NONSGML v1.0//EN
CALSCALE:GREGORIAN
METHOD:PUBLISH
X-WR-CALNAME:Friends of Marsden Library
X-ORIGINAL-URL:https://friendsofmarsdenlibrary.org.uk
X-WR-CALDESC:Events for Friends of Marsden Library
REFRESH-INTERVAL;VALUE=DURATION:PT1H
X-Robots-Tag:noindex
X-PUBLISHED-TTL:PT1H
BEGIN:VTIMEZONE
TZID:Europe/London
BEGIN:DAYLIGHT
TZOFFSETFROM:+0000
TZOFFSETTO:+0100
TZNAME:BST
DTSTART:20240331T010000
END:DAYLIGHT
BEGIN:STANDARD
TZOFFSETFROM:+0100
TZOFFSETTO:+0000
TZNAME:GMT
DTSTART:20241027T010000
END:STANDARD
BEGIN:DAYLIGHT
TZOFFSETFROM:+0000
TZOFFSETTO:+0100
TZNAME:BST
DTSTART:20250330T010000
END:DAYLIGHT
BEGIN:STANDARD
TZOFFSETFROM:+0100
TZOFFSETTO:+0000
TZNAME:GMT
DTSTART:20251026T010000
END:STANDARD
BEGIN:DAYLIGHT
TZOFFSETFROM:+0000
TZOFFSETTO:+0100
TZNAME:BST
DTSTART:20260329T010000
END:DAYLIGHT
BEGIN:STANDARD
TZOFFSETFROM:+0100
TZOFFSETTO:+0000
TZNAME:GMT
DTSTART:20261025T010000
END:STANDARD
END:VTIMEZONE
BEGIN:VEVENT
DTSTART;TZID=Europe/London:20250601T080000
DTEND;TZID=Europe/London:20250630T235900
DTSTAMP:20260421T131100
CREATED:20250601T144137Z
LAST-MODIFIED:20250601T144137Z
UID:4404-1748764800-1751327940@friendsofmarsdenlibrary.org.uk
SUMMARY:Calendar Competition
DESCRIPTION:
URL:https://friendsofmarsdenlibrary.org.uk/event/calendar-competition/
LOCATION:West Yorkshire
ATTACH;FMTTYPE=image/png:https://friendsofmarsdenlibrary.org.uk/wp-content/uploads/2025/06/2025-calendar-launch-banner-1.png
END:VEVENT
BEGIN:VEVENT
DTSTART;TZID=Europe/London:20250626T190000
DTEND;TZID=Europe/London:20250626T200000
DTSTAMP:20260421T131100
CREATED:20250214T190736Z
LAST-MODIFIED:20250427T144820Z
UID:4294-1750964400-1750968000@friendsofmarsdenlibrary.org.uk
SUMMARY:Sarah Brooks\, The Cautious Traveller's Guide to the Wasteland
DESCRIPTION:Northern Bookshelf Live from New Writing North \nThe Cautious Traveller’s Guide to the Wastelands – Readings and Q&A \nCome join us at Marsden Library for an evening of literary escapism. Sarah will read from her debut novel and Sunday Times Bestseller\, The Cautious Traveller’s Guide to the Wastlands\, a historical fantasy set on a version of the Trans-Siberian express. “It is said there is a price that every passenger must pay. A price beyond the cost of a ticket.” Audience Q&A\, book signing and sales. \n  \nThursday 26th June\nMarsden Library\nDoors: 6.30 pm\, Event: 7.00pm \nBottle Bar\, Signing & Sales \n£3 \nGet your tickets here
URL:https://friendsofmarsdenlibrary.org.uk/event/sarah-brook-the-cautious-travellers-guide-to-the-wasteland/
LOCATION:Marsden Library\, Marsden Mechanics Hall\, Peel Street\, Marsden\, West Yorkshire\, HD7 6BW\, United Kingdom
END:VEVENT
END:VCALENDAR