BEGIN:VCALENDAR
VERSION:2.0
PRODID:-//Friends of Marsden Library - ECPv6.15.11//NONSGML v1.0//EN
CALSCALE:GREGORIAN
METHOD:PUBLISH
X-ORIGINAL-URL:https://friendsofmarsdenlibrary.org.uk
X-WR-CALDESC:Events for Friends of Marsden Library
REFRESH-INTERVAL;VALUE=DURATION:PT1H
X-Robots-Tag:noindex
X-PUBLISHED-TTL:PT1H
BEGIN:VTIMEZONE
TZID:Europe/London
BEGIN:DAYLIGHT
TZOFFSETFROM:+0000
TZOFFSETTO:+0100
TZNAME:BST
DTSTART:20150329T010000
END:DAYLIGHT
BEGIN:STANDARD
TZOFFSETFROM:+0100
TZOFFSETTO:+0000
TZNAME:GMT
DTSTART:20151025T010000
END:STANDARD
BEGIN:DAYLIGHT
TZOFFSETFROM:+0000
TZOFFSETTO:+0100
TZNAME:BST
DTSTART:20160327T010000
END:DAYLIGHT
BEGIN:STANDARD
TZOFFSETFROM:+0100
TZOFFSETTO:+0000
TZNAME:GMT
DTSTART:20161030T010000
END:STANDARD
BEGIN:DAYLIGHT
TZOFFSETFROM:+0000
TZOFFSETTO:+0100
TZNAME:BST
DTSTART:20170326T010000
END:DAYLIGHT
BEGIN:STANDARD
TZOFFSETFROM:+0100
TZOFFSETTO:+0000
TZNAME:GMT
DTSTART:20171029T010000
END:STANDARD
BEGIN:DAYLIGHT
TZOFFSETFROM:+0000
TZOFFSETTO:+0100
TZNAME:BST
DTSTART:20180325T010000
END:DAYLIGHT
BEGIN:STANDARD
TZOFFSETFROM:+0100
TZOFFSETTO:+0000
TZNAME:GMT
DTSTART:20181028T010000
END:STANDARD
END:VTIMEZONE
BEGIN:VEVENT
DTSTART;TZID=Europe/London:20170429T130000
DTEND;TZID=Europe/London:20170429T150000
DTSTAMP:20260422T233346
CREATED:20170429T092228Z
LAST-MODIFIED:20170429T092228Z
UID:1483-1493470800-1493478000@friendsofmarsdenlibrary.org.uk
SUMMARY:Lego Club Returns
DESCRIPTION:Fun for children young and old.  Loads of lego available\, new theme each week.  Tea\, coffee and a sit down available.  Children must bring a grown up.
URL:https://friendsofmarsdenlibrary.org.uk/event/lego-club-returns/
LOCATION:Marsden Library\, Marsden Mechanics Hall\, Peel Street\, Marsden\, West Yorkshire\, HD7 6BW\, United Kingdom
CATEGORIES:Lego Club
END:VEVENT
BEGIN:VEVENT
DTSTART;TZID=Europe/London:20170318T130000
DTEND;TZID=Europe/London:20170318T150000
DTSTAMP:20260422T233346
CREATED:20170308T203138Z
LAST-MODIFIED:20170308T203138Z
UID:1401-1489842000-1489849200@friendsofmarsdenlibrary.org.uk
SUMMARY:Lego Club
DESCRIPTION:Fun for children young and old.  Loads of lego available\, new theme each week.  Tea\, coffee and a sit down available.  Children must bring a grown up.
URL:https://friendsofmarsdenlibrary.org.uk/event/lego-club-4/
LOCATION:Marsden Library\, Marsden Mechanics Hall\, Peel Street\, Marsden\, West Yorkshire\, HD7 6BW\, United Kingdom
CATEGORIES:Lego Club
END:VEVENT
BEGIN:VEVENT
DTSTART;TZID=Europe/London:20170210T130000
DTEND;TZID=Europe/London:20170210T150000
DTSTAMP:20260422T233346
CREATED:20170203T133656Z
LAST-MODIFIED:20170203T133656Z
UID:1331-1486731600-1486738800@friendsofmarsdenlibrary.org.uk
SUMMARY:Lego Club
DESCRIPTION:Fun for children young and old.  Loads of lego available\, new theme each week.  Tea\, coffee and a sit down available.  Children must bring a grown up.
URL:https://friendsofmarsdenlibrary.org.uk/event/lego-club-2/
LOCATION:Marsden Library\, Marsden Mechanics Hall\, Peel Street\, Marsden\, West Yorkshire\, HD7 6BW\, United Kingdom
CATEGORIES:Lego Club
END:VEVENT
BEGIN:VEVENT
DTSTART;TZID=Europe/London:20170204T130000
DTEND;TZID=Europe/London:20170204T150000
DTSTAMP:20260422T233346
CREATED:20170203T133519Z
LAST-MODIFIED:20170203T133735Z
UID:1328-1486213200-1486220400@friendsofmarsdenlibrary.org.uk
SUMMARY:Lego Club
DESCRIPTION:Fun for children young and old.  Loads of lego available\, new theme each week.  Tea\, coffee and a sit down available.  Children must bring a grown up.
URL:https://friendsofmarsdenlibrary.org.uk/event/lego-club/
LOCATION:Marsden Library\, Marsden Mechanics Hall\, Peel Street\, Marsden\, West Yorkshire\, HD7 6BW\, United Kingdom
CATEGORIES:Lego Club
END:VEVENT
BEGIN:VEVENT
DTSTART;TZID=Europe/London:20161217T130000
DTEND;TZID=Europe/London:20161217T150000
DTSTAMP:20260422T233346
CREATED:20161031T192904Z
LAST-MODIFIED:20161217T094950Z
UID:1120-1481979600-1481986800@friendsofmarsdenlibrary.org.uk
SUMMARY:Marsden Library Lego Club
DESCRIPTION:Every Saturday in Term Time in the Library.  Children must be accompanied by an adult.  FREE.  Tea\, coffee\, biscuits and squash available for a small donation. \nToday is the last lego club before Christmas.  We’ll be back on January 7th. \nHave a wonderful\, lego-filled Christmas.
URL:https://friendsofmarsdenlibrary.org.uk/event/marsden-library-lego-club-25/
LOCATION:Marsden Library\, Marsden Mechanics Hall\, Peel Street\, Marsden\, West Yorkshire\, HD7 6BW\, United Kingdom
CATEGORIES:Lego Club
END:VEVENT
BEGIN:VEVENT
DTSTART;TZID=Europe/London:20161210T130000
DTEND;TZID=Europe/London:20161210T150000
DTSTAMP:20260422T233346
CREATED:20161031T192755Z
LAST-MODIFIED:20161031T193040Z
UID:1118-1481374800-1481382000@friendsofmarsdenlibrary.org.uk
SUMMARY:Marsden Library Lego Club
DESCRIPTION:Every Saturday in Term Time in the Library.  Children must be accompanied by an adult.  FREE.  Tea\, coffee\, biscuits and squash available for a small donation.
URL:https://friendsofmarsdenlibrary.org.uk/event/marsden-library-lego-club-24/
LOCATION:Marsden Library\, Marsden Mechanics Hall\, Peel Street\, Marsden\, West Yorkshire\, HD7 6BW\, United Kingdom
CATEGORIES:Lego Club
END:VEVENT
BEGIN:VEVENT
DTSTART;TZID=Europe/London:20161203T130000
DTEND;TZID=Europe/London:20161203T150000
DTSTAMP:20260422T233346
CREATED:20161031T192643Z
LAST-MODIFIED:20161031T193048Z
UID:1116-1480770000-1480777200@friendsofmarsdenlibrary.org.uk
SUMMARY:Marsden Library Lego Club
DESCRIPTION:Every Saturday in Term Time in the Library.  Children must be accompanied by an adult.  FREE.  Tea\, coffee\, biscuits and squash available for a small donation.
URL:https://friendsofmarsdenlibrary.org.uk/event/marsden-library-lego-club-23/
LOCATION:Marsden Library\, Marsden Mechanics Hall\, Peel Street\, Marsden\, West Yorkshire\, HD7 6BW\, United Kingdom
CATEGORIES:Lego Club
END:VEVENT
BEGIN:VEVENT
DTSTART;TZID=Europe/London:20161126T130000
DTEND;TZID=Europe/London:20161126T150000
DTSTAMP:20260422T233346
CREATED:20161031T192401Z
LAST-MODIFIED:20161031T193059Z
UID:1114-1480165200-1480172400@friendsofmarsdenlibrary.org.uk
SUMMARY:Marsden Library Lego Club
DESCRIPTION:Every Saturday in Term Time in the Library.  Children must be accompanied by an adult.  FREE.  Tea\, coffee\, biscuits and squash available for a small donation.
URL:https://friendsofmarsdenlibrary.org.uk/event/marsden-library-lego-club-22/
LOCATION:Marsden Library\, Marsden Mechanics Hall\, Peel Street\, Marsden\, West Yorkshire\, HD7 6BW\, United Kingdom
CATEGORIES:Lego Club
END:VEVENT
BEGIN:VEVENT
DTSTART;TZID=Europe/London:20161119T130000
DTEND;TZID=Europe/London:20161119T150000
DTSTAMP:20260422T233346
CREATED:20161031T192159Z
LAST-MODIFIED:20161031T193111Z
UID:1112-1479560400-1479567600@friendsofmarsdenlibrary.org.uk
SUMMARY:Marsden Library Lego Club
DESCRIPTION:Every Saturday in Term Time in the Library.  Children must be accompanied by an adult.  FREE.  Tea\, coffee\, biscuits and squash available for a small donation.
URL:https://friendsofmarsdenlibrary.org.uk/event/marsden-library-lego-club-21/
LOCATION:Marsden Library\, Marsden Mechanics Hall\, Peel Street\, Marsden\, West Yorkshire\, HD7 6BW\, United Kingdom
CATEGORIES:Lego Club
END:VEVENT
BEGIN:VEVENT
DTSTART;TZID=Europe/London:20161112T130000
DTEND;TZID=Europe/London:20161112T150000
DTSTAMP:20260422T233346
CREATED:20161031T191830Z
LAST-MODIFIED:20161031T191830Z
UID:1110-1478955600-1478962800@friendsofmarsdenlibrary.org.uk
SUMMARY:Marsden Library Lego Club
DESCRIPTION:Every Saturday in Term Time in the Library.  Children must be accompanied by an adult.  FREE.  Tea\, coffee\, biscuits and squash available for a small donation.
URL:https://friendsofmarsdenlibrary.org.uk/event/marsden-library-lego-club-20/
LOCATION:West Yorkshire
CATEGORIES:Lego Club
END:VEVENT
BEGIN:VEVENT
DTSTART;TZID=Europe/London:20161105T130000
DTEND;TZID=Europe/London:20161105T150000
DTSTAMP:20260422T233346
CREATED:20161031T191635Z
LAST-MODIFIED:20161031T191635Z
UID:1108-1478350800-1478358000@friendsofmarsdenlibrary.org.uk
SUMMARY:Marsden Library Lego Club
DESCRIPTION:Every Saturday in Term Time in the Library.  Children must be accompanied by an adult.  FREE.  Tea\, coffee\, biscuits and squash available for a small donation.
URL:https://friendsofmarsdenlibrary.org.uk/event/marsden-library-lego-club-19/
LOCATION:Marsden Library\, Marsden Mechanics Hall\, Peel Street\, Marsden\, West Yorkshire\, HD7 6BW\, United Kingdom
CATEGORIES:Lego Club
END:VEVENT
BEGIN:VEVENT
DTSTART;TZID=Europe/London:20160910T133000
DTEND;TZID=Europe/London:20160910T153000
DTSTAMP:20260422T233346
CREATED:20160502T101053Z
LAST-MODIFIED:20160830T100159Z
UID:760-1473514200-1473521400@friendsofmarsdenlibrary.org.uk
SUMMARY:Marsden Library Lego Club is Back (note - slightly new time)
DESCRIPTION:Summer holiday is over … Lego Club is Back! \nEvery Saturday in Term Time in the Library.  Children must be accompanied by an adult.
URL:https://friendsofmarsdenlibrary.org.uk/event/marsden-library-lego-club-is-back/
LOCATION:Marsden Library\, Marsden Mechanics Hall\, Peel Street\, Marsden\, West Yorkshire\, HD7 6BW\, United Kingdom
CATEGORIES:Lego Club
END:VEVENT
BEGIN:VEVENT
DTSTART;TZID=Europe/London:20160716T134500
DTEND;TZID=Europe/London:20160716T134500
DTSTAMP:20260422T233346
CREATED:20160502T100750Z
LAST-MODIFIED:20160502T100750Z
UID:759-1468676700-1468676700@friendsofmarsdenlibrary.org.uk
SUMMARY:Last Lego Club before School Hols
DESCRIPTION:Every Saturday in Term Time in the Library.  Children must be accompanied by an adult.
URL:https://friendsofmarsdenlibrary.org.uk/event/last-lego-club-before-school-hols/
LOCATION:Marsden Library\, Marsden Mechanics Hall\, Peel Street\, Marsden\, West Yorkshire\, HD7 6BW\, United Kingdom
CATEGORIES:Lego Club
END:VEVENT
BEGIN:VEVENT
DTSTART;TZID=Europe/London:20160709T134500
DTEND;TZID=Europe/London:20160709T151500
DTSTAMP:20260422T233346
CREATED:20160502T101940Z
LAST-MODIFIED:20160502T101940Z
UID:766-1468071900-1468077300@friendsofmarsdenlibrary.org.uk
SUMMARY:Marsden Library Lego Club
DESCRIPTION:Every Saturday in Term Time in the Library.  Children must be accompanied by an adult.
URL:https://friendsofmarsdenlibrary.org.uk/event/marsden-library-lego-club-18/
LOCATION:Marsden Library\, Marsden Mechanics Hall\, Peel Street\, Marsden\, West Yorkshire\, HD7 6BW\, United Kingdom
CATEGORIES:Lego Club
END:VEVENT
BEGIN:VEVENT
DTSTART;TZID=Europe/London:20160702T134500
DTEND;TZID=Europe/London:20160702T151500
DTSTAMP:20260422T233346
CREATED:20160502T101712Z
LAST-MODIFIED:20160502T101712Z
UID:765-1467467100-1467472500@friendsofmarsdenlibrary.org.uk
SUMMARY:Marsden Library Lego Club
DESCRIPTION:Every Saturday in Term Time in the Library.  Children must be accompanied by an adult.
URL:https://friendsofmarsdenlibrary.org.uk/event/marsden-library-lego-club-17/
LOCATION:Marsden Library\, Marsden Mechanics Hall\, Peel Street\, Marsden\, West Yorkshire\, HD7 6BW\, United Kingdom
CATEGORIES:Lego Club
END:VEVENT
BEGIN:VEVENT
DTSTART;TZID=Europe/London:20160625T134500
DTEND;TZID=Europe/London:20160625T151500
DTSTAMP:20260422T233346
CREATED:20160502T101605Z
LAST-MODIFIED:20160502T101605Z
UID:764-1466862300-1466867700@friendsofmarsdenlibrary.org.uk
SUMMARY:Marsden Library Lego Club
DESCRIPTION:Every Saturday in Term Time in the Library.  Children must be accompanied by an adult.
URL:https://friendsofmarsdenlibrary.org.uk/event/marsden-library-lego-club-16/
LOCATION:Marsden Library\, Marsden Mechanics Hall\, Peel Street\, Marsden\, West Yorkshire\, HD7 6BW\, United Kingdom
CATEGORIES:Lego Club
END:VEVENT
BEGIN:VEVENT
DTSTART;TZID=Europe/London:20160618T134500
DTEND;TZID=Europe/London:20160618T151500
DTSTAMP:20260422T233346
CREATED:20160502T101457Z
LAST-MODIFIED:20160502T101457Z
UID:763-1466257500-1466262900@friendsofmarsdenlibrary.org.uk
SUMMARY:Marsden Library Lego Club
DESCRIPTION:Every Saturday in Term Time in the Library.  Children must be accompanied by an adult.
URL:https://friendsofmarsdenlibrary.org.uk/event/marsden-library-lego-club-15/
LOCATION:Marsden Library\, Marsden Mechanics Hall\, Peel Street\, Marsden\, West Yorkshire\, HD7 6BW\, United Kingdom
CATEGORIES:Lego Club
END:VEVENT
BEGIN:VEVENT
DTSTART;TZID=Europe/London:20160611T134500
DTEND;TZID=Europe/London:20160611T151500
DTSTAMP:20260422T233346
CREATED:20160502T101348Z
LAST-MODIFIED:20160502T101348Z
UID:762-1465652700-1465658100@friendsofmarsdenlibrary.org.uk
SUMMARY:Marsden Library Lego Club
DESCRIPTION:Every Saturday in Term Time in the Library.  Children must be accompanied by an adult.
URL:https://friendsofmarsdenlibrary.org.uk/event/marsden-library-lego-club-14/
LOCATION:West Yorkshire
CATEGORIES:Lego Club
END:VEVENT
BEGIN:VEVENT
DTSTART;TZID=Europe/London:20160604T134500
DTEND;TZID=Europe/London:20160604T151500
DTSTAMP:20260422T233346
CREATED:20160502T101245Z
LAST-MODIFIED:20160502T101245Z
UID:761-1465047900-1465053300@friendsofmarsdenlibrary.org.uk
SUMMARY:Marsden Library Lego Club
DESCRIPTION:Every Saturday in Term Time in the Library.  Children must be accompanied by an adult.
URL:https://friendsofmarsdenlibrary.org.uk/event/marsden-library-lego-club-13/
LOCATION:Marsden Library\, Marsden Mechanics Hall\, Peel Street\, Marsden\, West Yorkshire\, HD7 6BW\, United Kingdom
CATEGORIES:Lego Club
END:VEVENT
BEGIN:VEVENT
DTSTART;TZID=Europe/London:20160528T134500
DTEND;TZID=Europe/London:20160528T151500
DTSTAMP:20260422T233346
CREATED:20160502T100538Z
LAST-MODIFIED:20160503T122851Z
UID:758-1464443100-1464448500@friendsofmarsdenlibrary.org.uk
SUMMARY:Marsden Library Lego Club
DESCRIPTION:Every Saturday during Term Time.  Children must be accompanied by an adult.
URL:https://friendsofmarsdenlibrary.org.uk/event/no-lego-club-today-half-term/
LOCATION:Marsden Library\, Marsden Mechanics Hall\, Peel Street\, Marsden\, West Yorkshire\, HD7 6BW\, United Kingdom
CATEGORIES:Lego Club
END:VEVENT
BEGIN:VEVENT
DTSTART;TZID=Europe/London:20160521T134500
DTEND;TZID=Europe/London:20160521T151500
DTSTAMP:20260422T233346
CREATED:20160502T100311Z
LAST-MODIFIED:20160502T100311Z
UID:757-1463838300-1463843700@friendsofmarsdenlibrary.org.uk
SUMMARY:Marsden Library Lego Club
DESCRIPTION:Every Saturday in Term Time in the Library.  Children must be accompanied by an adult.
URL:https://friendsofmarsdenlibrary.org.uk/event/marsden-library-lego-club-12/
LOCATION:Marsden Library\, Marsden Mechanics Hall\, Peel Street\, Marsden\, West Yorkshire\, HD7 6BW\, United Kingdom
CATEGORIES:Lego Club
END:VEVENT
BEGIN:VEVENT
DTSTART;TZID=Europe/London:20160507T134500
DTEND;TZID=Europe/London:20160507T151500
DTSTAMP:20260422T233346
CREATED:20160502T095830Z
LAST-MODIFIED:20160502T100400Z
UID:752-1462628700-1462634100@friendsofmarsdenlibrary.org.uk
SUMMARY:Marsden Library Lego Club
DESCRIPTION:Every Saturday in Term Time in the Library.  Children must be accompanied by an adult.
URL:https://friendsofmarsdenlibrary.org.uk/event/marsden-library-lego-club-10/
LOCATION:Marsden Library\, Marsden Mechanics Hall\, Peel Street\, Marsden\, West Yorkshire\, HD7 6BW\, United Kingdom
CATEGORIES:Lego Club
END:VEVENT
BEGIN:VEVENT
DTSTART;TZID=Europe/London:20160502T134000
DTEND;TZID=Europe/London:20160502T151500
DTSTAMP:20260422T233346
CREATED:20160502T100010Z
LAST-MODIFIED:20160502T100429Z
UID:756-1462196400-1462202100@friendsofmarsdenlibrary.org.uk
SUMMARY:Marsden Library Lego Club
DESCRIPTION:Every Saturday in Term Time in the Library.  Children must be accompanied by an adult.
URL:https://friendsofmarsdenlibrary.org.uk/event/marsden-library-lego-club-11/
LOCATION:Marsden Library\, Marsden Mechanics Hall\, Peel Street\, Marsden\, West Yorkshire\, HD7 6BW\, United Kingdom
CATEGORIES:Lego Club
END:VEVENT
END:VCALENDAR