BEGIN:VCALENDAR
VERSION:2.0
PRODID:-//Friends of Marsden Library - ECPv6.15.11//NONSGML v1.0//EN
CALSCALE:GREGORIAN
METHOD:PUBLISH
X-WR-CALNAME:Friends of Marsden Library
X-ORIGINAL-URL:https://friendsofmarsdenlibrary.org.uk
X-WR-CALDESC:Events for Friends of Marsden Library
REFRESH-INTERVAL;VALUE=DURATION:PT1H
X-Robots-Tag:noindex
X-PUBLISHED-TTL:PT1H
BEGIN:VTIMEZONE
TZID:Europe/London
BEGIN:DAYLIGHT
TZOFFSETFROM:+0000
TZOFFSETTO:+0100
TZNAME:BST
DTSTART:20150329T010000
END:DAYLIGHT
BEGIN:STANDARD
TZOFFSETFROM:+0100
TZOFFSETTO:+0000
TZNAME:GMT
DTSTART:20151025T010000
END:STANDARD
BEGIN:DAYLIGHT
TZOFFSETFROM:+0000
TZOFFSETTO:+0100
TZNAME:BST
DTSTART:20160327T010000
END:DAYLIGHT
BEGIN:STANDARD
TZOFFSETFROM:+0100
TZOFFSETTO:+0000
TZNAME:GMT
DTSTART:20161030T010000
END:STANDARD
BEGIN:DAYLIGHT
TZOFFSETFROM:+0000
TZOFFSETTO:+0100
TZNAME:BST
DTSTART:20170326T010000
END:DAYLIGHT
BEGIN:STANDARD
TZOFFSETFROM:+0100
TZOFFSETTO:+0000
TZNAME:GMT
DTSTART:20171029T010000
END:STANDARD
END:VTIMEZONE
BEGIN:VEVENT
DTSTART;TZID=Europe/London:20161019T193000
DTEND;TZID=Europe/London:20161019T213000
DTSTAMP:20260421T001012
CREATED:20160810T185507Z
LAST-MODIFIED:20160810T185507Z
UID:975-1476905400-1476912600@friendsofmarsdenlibrary.org.uk
SUMMARY:Marsden Write Out Loud Poetry Night
DESCRIPTION:Held every third Wednesday of the month\, 19.30 – 21.30\, Marsden Write Out Loud Poetry night has been running for 6 years.  All are welcome to bring along their own or a favourite poem to read\, or just listen and enjoy. \n£2 donation to Write Out Loud funds requested. \nWrite Out Loud is an international poetry organisation run from Marsden:  www.writeoutloud.net
URL:https://friendsofmarsdenlibrary.org.uk/event/marsden-write-out-loud-poetry-night-3/
LOCATION:Marsden Library\, Marsden Mechanics Hall\, Peel Street\, Marsden\, West Yorkshire\, HD7 6BW\, United Kingdom
CATEGORIES:Write Out Loud
END:VEVENT
BEGIN:VEVENT
DTSTART;TZID=Europe/London:20160930T100000
DTEND;TZID=Europe/London:20160930T170000
DTSTAMP:20260421T001012
CREATED:20160902T092453Z
LAST-MODIFIED:20160831T083854Z
UID:1011-1475229600-1475254800@friendsofmarsdenlibrary.org.uk
SUMMARY:Calendar Competition Exhibition Opens in Enjoy Art
DESCRIPTION:Winning images from the Calendar Competition will be displayed at Enjoy Art from 30 September\, moving to Marsden Mechanics during the Jazz Festival (7 – 9 October). \nThe Gallery is Open Thursday – Saturday\, 10 – 5\, and Sunday 11 – 4. \nFree Entry. \nThe Marsden Calendar has been produced by Friends of Marsden Library and will be sold in aid of the Library Redesign.  To find out more about how the Library Service is changing\, and the fundraising campaign visit \n\nFundraising for the Library\nLibrary ReDesign Family Friendly Drop In\n\nThe Calendar will be on sale SOON.
URL:https://friendsofmarsdenlibrary.org.uk/event/calendar-competition-exhibition/
LOCATION:Enjoy Art\, Peel Street\, Marsden\, HD7 6BW
END:VEVENT
BEGIN:VEVENT
DTSTART;TZID=Europe/London:20160924T190000
DTEND;TZID=Europe/London:20160924T230000
DTSTAMP:20260421T001012
CREATED:20160819T205044Z
LAST-MODIFIED:20160916T091701Z
UID:1001-1474743600-1474758000@friendsofmarsdenlibrary.org.uk
SUMMARY:Ceilidh - Dance for the Library
DESCRIPTION:
URL:https://friendsofmarsdenlibrary.org.uk/event/ceilidh-dance-for-the-library/
LOCATION:Marsden Mechanics\, Upstairs\, Peel Street\, Marsden\, HD76BW
ATTACH;FMTTYPE=image/jpeg:https://friendsofmarsdenlibrary.org.uk/wp-content/uploads/2016/08/ceilidh.jpg
END:VEVENT
BEGIN:VEVENT
DTSTART;TZID=Europe/London:20160924T100000
DTEND;TZID=Europe/London:20160924T130000
DTSTAMP:20260421T001012
CREATED:20160819T204654Z
LAST-MODIFIED:20160913T202451Z
UID:996-1474711200-1474722000@friendsofmarsdenlibrary.org.uk
SUMMARY:The Big Library Appeal Launch Day - Family Friendly Drop in\, With Cake
DESCRIPTION:Drop in to the Mechanics anytime between 10 and 1 on Saturday 24th September to find out more about the plans for the Library Redesign. \nMembers of the Marsden Community Trust Board\, Friends of Marsden Library Steering Group\, Library volunteers and Kirklees Library Service Staff will be there to answer your questions. \nPlans and Designs for the Library Redesign available to view. \nChildren’s activities\, including lego. \nCake for sale.
URL:https://friendsofmarsdenlibrary.org.uk/event/library-redesign-information-family-friendly-drop-in-with-cake/
LOCATION:Marsden Mechanics\, Upstairs\, Peel Street\, Marsden\, HD76BW
END:VEVENT
BEGIN:VEVENT
DTSTART;TZID=Europe/London:20160921T193000
DTEND;TZID=Europe/London:20160921T213000
DTSTAMP:20260421T001012
CREATED:20160810T185337Z
LAST-MODIFIED:20160810T185337Z
UID:974-1474486200-1474493400@friendsofmarsdenlibrary.org.uk
SUMMARY:Marsden Write Out Loud Poetry Night
DESCRIPTION:Held every third Wednesday of the month\, 19.30 – 21.30\, Marsden Write Out Loud Poetry night has been running for 6 years.  All are welcome to bring along their own or a favourite poem to read\, or just listen and enjoy. \n£2 donation to Write Out Loud funds requested. \nWrite Out Loud is an international poetry organisation run from Marsden:  www.writeoutloud.net
URL:https://friendsofmarsdenlibrary.org.uk/event/marsden-write-out-loud-poetry-night-2/
LOCATION:Marsden Library\, Marsden Mechanics Hall\, Peel Street\, Marsden\, West Yorkshire\, HD7 6BW\, United Kingdom
CATEGORIES:Write Out Loud
END:VEVENT
BEGIN:VEVENT
DTSTART;TZID=Europe/London:20160910T133000
DTEND;TZID=Europe/London:20160910T153000
DTSTAMP:20260421T001012
CREATED:20160502T101053Z
LAST-MODIFIED:20160830T100159Z
UID:760-1473514200-1473521400@friendsofmarsdenlibrary.org.uk
SUMMARY:Marsden Library Lego Club is Back (note - slightly new time)
DESCRIPTION:Summer holiday is over … Lego Club is Back! \nEvery Saturday in Term Time in the Library.  Children must be accompanied by an adult.
URL:https://friendsofmarsdenlibrary.org.uk/event/marsden-library-lego-club-is-back/
LOCATION:Marsden Library\, Marsden Mechanics Hall\, Peel Street\, Marsden\, West Yorkshire\, HD7 6BW\, United Kingdom
CATEGORIES:Lego Club
END:VEVENT
BEGIN:VEVENT
DTSTART;TZID=Europe/London:20160825T103000
DTEND;TZID=Europe/London:20160825T123000
DTSTAMP:20260421T001012
CREATED:20160617T153238Z
LAST-MODIFIED:20160810T195300Z
UID:912-1472121000-1472128200@friendsofmarsdenlibrary.org.uk
SUMMARY:James and the Giant Peach Walk
DESCRIPTION:Go on an adventure to search out characters from the famous Roald Dahl story\, then enjoy a story and craft activity back at the Library. \nAll walks start and finish at the Library unless otherwise stated. \nFree. \nAll ages welcome. \nBooking essential – please call 01484 414868 and ask for the Marsden library.
URL:https://friendsofmarsdenlibrary.org.uk/event/james-and-the-giant-peach-walk/
LOCATION:Marsden Library\, Marsden Mechanics Hall\, Peel Street\, Marsden\, West Yorkshire\, HD7 6BW\, United Kingdom
CATEGORIES:Kirklees Library Service
ORGANIZER;CN="Kirklees Libraries and Information Centres":MAILTO:marsden.lic@kirklees.gov.uk
END:VEVENT
BEGIN:VEVENT
DTSTART;TZID=Europe/London:20160824T193000
DTEND;TZID=Europe/London:20160824T213000
DTSTAMP:20260421T001012
CREATED:20160810T185156Z
LAST-MODIFIED:20160810T185156Z
UID:972-1472067000-1472074200@friendsofmarsdenlibrary.org.uk
SUMMARY:Marsden Write Out Loud Poetry Night
DESCRIPTION:Held every third Wednesday of the month\, 19.30 – 21.30\, Marsden Write Out Loud Poetry night has been running for 6 years.  All are welcome to bring along their own or a favourite poem to read\, or just listen and enjoy. \n£2 donation to Write Out Loud funds requested. \nWrite Out Loud is an international poetry organisation run from Marsden:  www.writeoutloud.net
URL:https://friendsofmarsdenlibrary.org.uk/event/marsden-write-out-loud-poetry-night/
LOCATION:Marsden Library\, Marsden Mechanics Hall\, Peel Street\, Marsden\, West Yorkshire\, HD7 6BW\, United Kingdom
CATEGORIES:Write Out Loud
END:VEVENT
BEGIN:VEVENT
DTSTART;TZID=Europe/London:20160805T143000
DTEND;TZID=Europe/London:20160805T153000
DTSTAMP:20260421T001012
CREATED:20160617T153041Z
LAST-MODIFIED:20160617T153041Z
UID:911-1470407400-1470411000@friendsofmarsdenlibrary.org.uk
SUMMARY:Doodle a Dahl
DESCRIPTION:Pencils at the ready! \nListen to Roald Dahl’s dastardly and delicious descriptions\, and be inspired to create your own artwork. \nMost suitable for age 5+ but all welcome. Drop in event. (George’s Marvellous Medicine)
URL:https://friendsofmarsdenlibrary.org.uk/event/doodle-a-dahl/
LOCATION:Marsden Library\, Marsden Mechanics Hall\, Peel Street\, Marsden\, West Yorkshire\, HD7 6BW\, United Kingdom
ORGANIZER;CN="Kirklees Libraries and Information Centres":MAILTO:marsden.lic@kirklees.gov.uk
END:VEVENT
BEGIN:VEVENT
DTSTART;TZID=Europe/London:20160716T134500
DTEND;TZID=Europe/London:20160716T134500
DTSTAMP:20260421T001012
CREATED:20160502T100750Z
LAST-MODIFIED:20160502T100750Z
UID:759-1468676700-1468676700@friendsofmarsdenlibrary.org.uk
SUMMARY:Last Lego Club before School Hols
DESCRIPTION:Every Saturday in Term Time in the Library.  Children must be accompanied by an adult.
URL:https://friendsofmarsdenlibrary.org.uk/event/last-lego-club-before-school-hols/
LOCATION:Marsden Library\, Marsden Mechanics Hall\, Peel Street\, Marsden\, West Yorkshire\, HD7 6BW\, United Kingdom
CATEGORIES:Lego Club
END:VEVENT
BEGIN:VEVENT
DTSTART;VALUE=DATE:20160716
DTEND;VALUE=DATE:20160717
DTSTAMP:20260421T001012
CREATED:20160617T152717Z
LAST-MODIFIED:20160617T152717Z
UID:910-1468627200-1468713599@friendsofmarsdenlibrary.org.uk
SUMMARY:Launch of the Summer Reading Challenge
DESCRIPTION:
URL:https://friendsofmarsdenlibrary.org.uk/event/launch-of-the-summer-reading-challenge/
END:VEVENT
BEGIN:VEVENT
DTSTART;TZID=Europe/London:20160709T134500
DTEND;TZID=Europe/London:20160709T151500
DTSTAMP:20260421T001012
CREATED:20160502T101940Z
LAST-MODIFIED:20160502T101940Z
UID:766-1468071900-1468077300@friendsofmarsdenlibrary.org.uk
SUMMARY:Marsden Library Lego Club
DESCRIPTION:Every Saturday in Term Time in the Library.  Children must be accompanied by an adult.
URL:https://friendsofmarsdenlibrary.org.uk/event/marsden-library-lego-club-18/
LOCATION:Marsden Library\, Marsden Mechanics Hall\, Peel Street\, Marsden\, West Yorkshire\, HD7 6BW\, United Kingdom
CATEGORIES:Lego Club
END:VEVENT
BEGIN:VEVENT
DTSTART;TZID=Europe/London:20160706T193000
DTEND;TZID=Europe/London:20160706T203000
DTSTAMP:20260421T001012
CREATED:20160528T214047Z
LAST-MODIFIED:20160528T214047Z
UID:834-1467833400-1467837000@friendsofmarsdenlibrary.org.uk
SUMMARY:Friends of Marsden Library Presents: Local Writers Reading - Chris Longden
DESCRIPTION:Join us for the latest in our Local Writers Reading series when author Chris Longden will be reading from A Cuckoo in the Chocolate – the sequel to Mind Games and Ministers\, and due out later on this year.  Both books are best described as ‘light-hearted northern fiction – with a strong social message.’ \nChris Longden is from Dukinfield and moved to Namibia in 2003\, where she lived and worked with the Kalahari Bushmen – producing two books about them. On returning to the UK – with new family in tow – Chris settled in Netherton where she began to manage an international charity as well as becoming involved in setting up Dark Woods Coffee Roastery in Marsden. \nChris writes; both fiction and non-fiction; her blog www.funnylass.wordpress.com; to prisoners on death row; a column for the Yorkshire Times and her children’s homework (on those ‘sick of nagging them about it’ days). \nChris will be signing and selling copies of her books. \nEntrance is  £5\, book your place below and pay on the door.  Refreshments provided; proceeds to support Marsden Library. \n\n	Notice: JavaScript is required for this content.
URL:https://friendsofmarsdenlibrary.org.uk/event/friends-of-marsden-library-presents-local-writers-reading-chris-longden/
LOCATION:Marsden Library\, Marsden Mechanics Hall\, Peel Street\, Marsden\, West Yorkshire\, HD7 6BW\, United Kingdom
CATEGORIES:Activities,Local Writers Reading
END:VEVENT
BEGIN:VEVENT
DTSTART;TZID=Europe/London:20160702T134500
DTEND;TZID=Europe/London:20160702T151500
DTSTAMP:20260421T001013
CREATED:20160502T101712Z
LAST-MODIFIED:20160502T101712Z
UID:765-1467467100-1467472500@friendsofmarsdenlibrary.org.uk
SUMMARY:Marsden Library Lego Club
DESCRIPTION:Every Saturday in Term Time in the Library.  Children must be accompanied by an adult.
URL:https://friendsofmarsdenlibrary.org.uk/event/marsden-library-lego-club-17/
LOCATION:Marsden Library\, Marsden Mechanics Hall\, Peel Street\, Marsden\, West Yorkshire\, HD7 6BW\, United Kingdom
CATEGORIES:Lego Club
END:VEVENT
BEGIN:VEVENT
DTSTART;VALUE=DATE:20160630
DTEND;VALUE=DATE:20160701
DTSTAMP:20260421T001013
CREATED:20160326T074955Z
LAST-MODIFIED:20160326T074955Z
UID:651-1467244800-1467331199@friendsofmarsdenlibrary.org.uk
SUMMARY:Marsden Calendar Competition Last Day for Uploading Entries
DESCRIPTION:
URL:https://friendsofmarsdenlibrary.org.uk/event/marsden-calendar-competition-last-day-for-uploading-entries/
END:VEVENT
BEGIN:VEVENT
DTSTART;TZID=Europe/London:20160629T193000
DTEND;TZID=Europe/London:20160629T203000
DTSTAMP:20260421T001013
CREATED:20160528T215055Z
LAST-MODIFIED:20160528T215918Z
UID:843-1467228600-1467232200@friendsofmarsdenlibrary.org.uk
SUMMARY:Friends of Marsden Library Presents: Local Writers Reading - Tim Taylor
DESCRIPTION:Tim Taylor is the latest local author to take part in our Local Writers Reading series. \nJoin us on 29th June to hear Tim read from is two published novels: Revolution Day\, a political thriller about an ageing Latin American dictator\, losing his grip as his vice-President plots against him; and Zeus of Ithome\, a historical novel set in ancient Greece\, about the struggle of the Messenian people to free themselves from slavery. \nTim Taylor was born in Stoke on Trent\, but has lived in Meltham since 2001. Formerly a civil servant\, he now divides his time between creative writing and academic research/teaching in philosophy at the University of Leeds.  As well as fiction\, Tim writes poetry and non-fiction. He also likes playing the guitar (sometimes in public) and walking up hills. \nwebsite: http://www.tetaylor.co.uk/  blog: https://timwordsblog.wordpress.com/ \nEntrance is £5 (including refreshments).  Book your place now\, pay on the door.  All proceeds to support Marsden Library. \n \n	Notice: JavaScript is required for this content.
URL:https://friendsofmarsdenlibrary.org.uk/event/friends-of-marsden-library-presents-local-writers-reading-tim-taylor/
LOCATION:Marsden Library\, Marsden Mechanics Hall\, Peel Street\, Marsden\, West Yorkshire\, HD7 6BW\, United Kingdom
END:VEVENT
BEGIN:VEVENT
DTSTART;TZID=Europe/London:20160627T193000
DTEND;TZID=Europe/London:20160627T223000
DTSTAMP:20260421T001013
CREATED:20160509T065943Z
LAST-MODIFIED:20160509T083333Z
UID:797-1467055800-1467066600@friendsofmarsdenlibrary.org.uk
SUMMARY:Robin Ince Live in Marsden
DESCRIPTION:
URL:https://friendsofmarsdenlibrary.org.uk/event/robin-ince-live-in-marsden/
LOCATION:Marsden Library\, Marsden Mechanics Hall\, Peel Street\, Marsden\, West Yorkshire\, HD7 6BW\, United Kingdom
END:VEVENT
BEGIN:VEVENT
DTSTART;TZID=Europe/London:20160625T134500
DTEND;TZID=Europe/London:20160625T151500
DTSTAMP:20260421T001013
CREATED:20160502T101605Z
LAST-MODIFIED:20160502T101605Z
UID:764-1466862300-1466867700@friendsofmarsdenlibrary.org.uk
SUMMARY:Marsden Library Lego Club
DESCRIPTION:Every Saturday in Term Time in the Library.  Children must be accompanied by an adult.
URL:https://friendsofmarsdenlibrary.org.uk/event/marsden-library-lego-club-16/
LOCATION:Marsden Library\, Marsden Mechanics Hall\, Peel Street\, Marsden\, West Yorkshire\, HD7 6BW\, United Kingdom
CATEGORIES:Lego Club
END:VEVENT
BEGIN:VEVENT
DTSTART;TZID=Europe/London:20160618T134500
DTEND;TZID=Europe/London:20160618T151500
DTSTAMP:20260421T001013
CREATED:20160502T101457Z
LAST-MODIFIED:20160502T101457Z
UID:763-1466257500-1466262900@friendsofmarsdenlibrary.org.uk
SUMMARY:Marsden Library Lego Club
DESCRIPTION:Every Saturday in Term Time in the Library.  Children must be accompanied by an adult.
URL:https://friendsofmarsdenlibrary.org.uk/event/marsden-library-lego-club-15/
LOCATION:Marsden Library\, Marsden Mechanics Hall\, Peel Street\, Marsden\, West Yorkshire\, HD7 6BW\, United Kingdom
CATEGORIES:Lego Club
END:VEVENT
BEGIN:VEVENT
DTSTART;TZID=Europe/London:20160611T134500
DTEND;TZID=Europe/London:20160611T151500
DTSTAMP:20260421T001013
CREATED:20160502T101348Z
LAST-MODIFIED:20160502T101348Z
UID:762-1465652700-1465658100@friendsofmarsdenlibrary.org.uk
SUMMARY:Marsden Library Lego Club
DESCRIPTION:Every Saturday in Term Time in the Library.  Children must be accompanied by an adult.
URL:https://friendsofmarsdenlibrary.org.uk/event/marsden-library-lego-club-14/
CATEGORIES:Lego Club
END:VEVENT
BEGIN:VEVENT
DTSTART;TZID=Europe/London:20160604T134500
DTEND;TZID=Europe/London:20160604T151500
DTSTAMP:20260421T001013
CREATED:20160502T101245Z
LAST-MODIFIED:20160502T101245Z
UID:761-1465047900-1465053300@friendsofmarsdenlibrary.org.uk
SUMMARY:Marsden Library Lego Club
DESCRIPTION:Every Saturday in Term Time in the Library.  Children must be accompanied by an adult.
URL:https://friendsofmarsdenlibrary.org.uk/event/marsden-library-lego-club-13/
LOCATION:Marsden Library\, Marsden Mechanics Hall\, Peel Street\, Marsden\, West Yorkshire\, HD7 6BW\, United Kingdom
CATEGORIES:Lego Club
END:VEVENT
BEGIN:VEVENT
DTSTART;TZID=Europe/London:20160528T134500
DTEND;TZID=Europe/London:20160528T151500
DTSTAMP:20260421T001013
CREATED:20160502T100538Z
LAST-MODIFIED:20160503T122851Z
UID:758-1464443100-1464448500@friendsofmarsdenlibrary.org.uk
SUMMARY:Marsden Library Lego Club
DESCRIPTION:Every Saturday during Term Time.  Children must be accompanied by an adult.
URL:https://friendsofmarsdenlibrary.org.uk/event/no-lego-club-today-half-term/
LOCATION:Marsden Library\, Marsden Mechanics Hall\, Peel Street\, Marsden\, West Yorkshire\, HD7 6BW\, United Kingdom
CATEGORIES:Lego Club
END:VEVENT
BEGIN:VEVENT
DTSTART;VALUE=DATE:20160526
DTEND;VALUE=DATE:20160527
DTSTAMP:20260421T001013
CREATED:20160524T124203Z
LAST-MODIFIED:20160524T124203Z
UID:835-1464220800-1464307199@friendsofmarsdenlibrary.org.uk
SUMMARY:Festival of Learning MOOC Cafe
DESCRIPTION:Ever heard of a MOOC?  It standing  for Massive Open Online Course (or it might be Massive Online Open Course …).  If you enjoy learning new things – for FREE – then you need to get into MOOCs.  They are offered by learning providers\, including some of the world’s top Universities\, from across the world\, on topics far too numerous to list.  But I bet you’ll find something to interest you. \nYou can find out more about MOOCs by coming along to Marsden Library’s MOOC Cafe\, part of the Festival of Learning\, this Thursday (26th May).  MOOsey on down\, why don’t you?
URL:https://friendsofmarsdenlibrary.org.uk/event/festival-of-learning-mooc-cafe/
LOCATION:Marsden Library\, Marsden Mechanics Hall\, Peel Street\, Marsden\, West Yorkshire\, HD7 6BW\, United Kingdom
CATEGORIES:Activities
ATTACH;FMTTYPE=image/jpeg:https://friendsofmarsdenlibrary.org.uk/wp-content/uploads/2016/05/mooc_marsden.jpg
ORGANIZER;CN="Kirklees Libraries and Information Centres":MAILTO:marsden.lic@kirklees.gov.uk
END:VEVENT
BEGIN:VEVENT
DTSTART;TZID=Europe/London:20160524T140000
DTEND;TZID=Europe/London:20160524T153000
DTSTAMP:20260421T001013
CREATED:20160521T085241Z
LAST-MODIFIED:20160521T085241Z
UID:810-1464098400-1464103800@friendsofmarsdenlibrary.org.uk
SUMMARY:Creative Writing Workshop - Searching for Treasure
DESCRIPTION:Searching for Treasure – a creative writing workshop at Marsden Library. \nIn this workshop we will be engaging with old photographs to produce poems or prose writing.  Please bring an old photograph of yourself or family member\, or a significant place or event. \nSuitable for all abilities. \nFREE but booking essential as numbers restricted.  Phone 01484 414868 and ask for Marsden Library.
URL:https://friendsofmarsdenlibrary.org.uk/event/creative-writing-workshop-searching-for-treasure/
LOCATION:Marsden Library\, Marsden Mechanics Hall\, Peel Street\, Marsden\, West Yorkshire\, HD7 6BW\, United Kingdom
ORGANIZER;CN="Kirklees Libraries and Information Centres":MAILTO:marsden.lic@kirklees.gov.uk
END:VEVENT
BEGIN:VEVENT
DTSTART;TZID=Europe/London:20160521T134500
DTEND;TZID=Europe/London:20160521T151500
DTSTAMP:20260421T001013
CREATED:20160502T100311Z
LAST-MODIFIED:20160502T100311Z
UID:757-1463838300-1463843700@friendsofmarsdenlibrary.org.uk
SUMMARY:Marsden Library Lego Club
DESCRIPTION:Every Saturday in Term Time in the Library.  Children must be accompanied by an adult.
URL:https://friendsofmarsdenlibrary.org.uk/event/marsden-library-lego-club-12/
LOCATION:Marsden Library\, Marsden Mechanics Hall\, Peel Street\, Marsden\, West Yorkshire\, HD7 6BW\, United Kingdom
CATEGORIES:Lego Club
END:VEVENT
BEGIN:VEVENT
DTSTART;TZID=Europe/London:20160515T140000
DTEND;TZID=Europe/London:20160515T140000
DTSTAMP:20260421T001013
CREATED:20160502T104410Z
LAST-MODIFIED:20160502T104946Z
UID:773-1463320800-1463320800@friendsofmarsdenlibrary.org.uk
SUMMARY:Family Fun Walk and Tea in the Mechanics
DESCRIPTION:Joint event with Marsden Mechanics. \nFun walk to raise money to refurbish the library in time for its re-opening in September. The walk\, suitable for all ages and fitness level will be around Marsden and will be followed by tea\, treats and games in the Mechanics Hall.
URL:https://friendsofmarsdenlibrary.org.uk/event/family-fun-walk-and-tea-in-the-mechanics/
LOCATION:Marsden Library\, Marsden Mechanics Hall\, Peel Street\, Marsden\, West Yorkshire\, HD7 6BW\, United Kingdom
END:VEVENT
BEGIN:VEVENT
DTSTART;VALUE=DATE:20160515
DTEND;VALUE=DATE:20160516
DTSTAMP:20260421T001013
CREATED:20160323T134451Z
LAST-MODIFIED:20160326T074653Z
UID:640-1463270400-1463356799@friendsofmarsdenlibrary.org.uk
SUMMARY:Dementia Awareness Week Begins (until 21st)
DESCRIPTION:National Dementia Awareness Week 2016
URL:https://friendsofmarsdenlibrary.org.uk/event/dementia-awareness-week/
END:VEVENT
BEGIN:VEVENT
DTSTART;TZID=Europe/London:20160507T134500
DTEND;TZID=Europe/London:20160507T151500
DTSTAMP:20260421T001013
CREATED:20160502T095830Z
LAST-MODIFIED:20160502T100400Z
UID:752-1462628700-1462634100@friendsofmarsdenlibrary.org.uk
SUMMARY:Marsden Library Lego Club
DESCRIPTION:Every Saturday in Term Time in the Library.  Children must be accompanied by an adult.
URL:https://friendsofmarsdenlibrary.org.uk/event/marsden-library-lego-club-10/
LOCATION:Marsden Library\, Marsden Mechanics Hall\, Peel Street\, Marsden\, West Yorkshire\, HD7 6BW\, United Kingdom
CATEGORIES:Lego Club
END:VEVENT
BEGIN:VEVENT
DTSTART;TZID=Europe/London:20160502T134000
DTEND;TZID=Europe/London:20160502T151500
DTSTAMP:20260421T001013
CREATED:20160502T100010Z
LAST-MODIFIED:20160502T100429Z
UID:756-1462196400-1462202100@friendsofmarsdenlibrary.org.uk
SUMMARY:Marsden Library Lego Club
DESCRIPTION:Every Saturday in Term Time in the Library.  Children must be accompanied by an adult.
URL:https://friendsofmarsdenlibrary.org.uk/event/marsden-library-lego-club-11/
LOCATION:Marsden Library\, Marsden Mechanics Hall\, Peel Street\, Marsden\, West Yorkshire\, HD7 6BW\, United Kingdom
CATEGORIES:Lego Club
END:VEVENT
BEGIN:VEVENT
DTSTART;VALUE=DATE:20160501
DTEND;VALUE=DATE:20160502
DTSTAMP:20260421T001013
CREATED:20160323T134821Z
LAST-MODIFIED:20160326T074737Z
UID:641-1462060800-1462147199@friendsofmarsdenlibrary.org.uk
SUMMARY:Festival of Learning 2016 (until June 30th)
DESCRIPTION:Formerly Adult Learners’ Week \nFestival of Learning 2016
URL:https://friendsofmarsdenlibrary.org.uk/event/festival-of-learning-2016/
END:VEVENT
END:VCALENDAR