BEGIN:VCALENDAR
VERSION:2.0
PRODID:-//Friends of Marsden Library - ECPv6.15.11//NONSGML v1.0//EN
CALSCALE:GREGORIAN
METHOD:PUBLISH
X-ORIGINAL-URL:https://friendsofmarsdenlibrary.org.uk
X-WR-CALDESC:Events for Friends of Marsden Library
REFRESH-INTERVAL;VALUE=DURATION:PT1H
X-Robots-Tag:noindex
X-PUBLISHED-TTL:PT1H
BEGIN:VTIMEZONE
TZID:Europe/London
BEGIN:DAYLIGHT
TZOFFSETFROM:+0000
TZOFFSETTO:+0100
TZNAME:BST
DTSTART:20240331T010000
END:DAYLIGHT
BEGIN:STANDARD
TZOFFSETFROM:+0100
TZOFFSETTO:+0000
TZNAME:GMT
DTSTART:20241027T010000
END:STANDARD
BEGIN:DAYLIGHT
TZOFFSETFROM:+0000
TZOFFSETTO:+0100
TZNAME:BST
DTSTART:20250330T010000
END:DAYLIGHT
BEGIN:STANDARD
TZOFFSETFROM:+0100
TZOFFSETTO:+0000
TZNAME:GMT
DTSTART:20251026T010000
END:STANDARD
BEGIN:DAYLIGHT
TZOFFSETFROM:+0000
TZOFFSETTO:+0100
TZNAME:BST
DTSTART:20260329T010000
END:DAYLIGHT
BEGIN:STANDARD
TZOFFSETFROM:+0100
TZOFFSETTO:+0000
TZNAME:GMT
DTSTART:20261025T010000
END:STANDARD
END:VTIMEZONE
BEGIN:VEVENT
DTSTART;VALUE=DATE:20251002
DTEND;VALUE=DATE:20260101
DTSTAMP:20260421T121649
CREATED:20251002T165630Z
LAST-MODIFIED:20251002T165744Z
UID:4439-1759363200-1767225599@friendsofmarsdenlibrary.org.uk
SUMMARY:2025 Marsden Calendar On Sale
DESCRIPTION: 
URL:https://friendsofmarsdenlibrary.org.uk/event/2025-marsden-calendar-on-sale/
LOCATION:West Yorkshire
ATTACH;FMTTYPE=image/png:https://friendsofmarsdenlibrary.org.uk/wp-content/uploads/2025/09/on-sale-now-banner-for-website.png
END:VEVENT
BEGIN:VEVENT
DTSTART;TZID=Europe/London:20251117T184500
DTEND;TZID=Europe/London:20251117T190000
DTSTAMP:20260421T121649
CREATED:20251021T154841Z
LAST-MODIFIED:20251021T154841Z
UID:4490-1763405100-1763406000@friendsofmarsdenlibrary.org.uk
SUMMARY:Annual General Meeting 2025
DESCRIPTION:Notice of AGM
URL:https://friendsofmarsdenlibrary.org.uk/event/annual-general-meeting-2025/
LOCATION:Marsden Library\, Marsden Mechanics Hall\, Peel Street\, Marsden\, West Yorkshire\, HD7 6BW\, United Kingdom
END:VEVENT
BEGIN:VEVENT
DTSTART;TZID=Europe/London:20251126T140000
DTEND;TZID=Europe/London:20251126T163000
DTSTAMP:20260421T121649
CREATED:20251107T124051Z
LAST-MODIFIED:20251107T124051Z
UID:4495-1764165600-1764174600@friendsofmarsdenlibrary.org.uk
SUMMARY:Volunteer Information Afternoon
DESCRIPTION:Volunteers are an essential part of keeping Marsden Library open and new volunteers are always welcome.  You would work alongside a member of staff\, and you would receive full training. If you would like to find out more\, drop in to the Information Afternoon on 26th November.  If you’re interested\, but can’t make it\, just drop us a line – info@friendsofmarsdenlibrary.org.uk.
URL:https://friendsofmarsdenlibrary.org.uk/event/volunteer-information-afternoon-2/
LOCATION:Marsden Library\, Marsden Mechanics Hall\, Peel Street\, Marsden\, West Yorkshire\, HD7 6BW\, United Kingdom
ATTACH;FMTTYPE=image/png:https://friendsofmarsdenlibrary.org.uk/wp-content/uploads/2025/11/Vol-Info-Aft-Banner.png
END:VEVENT
END:VCALENDAR